BEGIN:VCALENDAR
VERSION:2.0
PRODID:-//Codice Edizioni - ECPv6.15.20//NONSGML v1.0//EN
CALSCALE:GREGORIAN
METHOD:PUBLISH
X-ORIGINAL-URL:https://www.codiceedizioni.it
X-WR-CALDESC:Eventi per Codice Edizioni
REFRESH-INTERVAL;VALUE=DURATION:PT1H
X-Robots-Tag:noindex
X-PUBLISHED-TTL:PT1H
BEGIN:VTIMEZONE
TZID:Europe/Rome
BEGIN:DAYLIGHT
TZOFFSETFROM:+0100
TZOFFSETTO:+0200
TZNAME:CEST
DTSTART:20190331T010000
END:DAYLIGHT
BEGIN:STANDARD
TZOFFSETFROM:+0200
TZOFFSETTO:+0100
TZNAME:CET
DTSTART:20191027T010000
END:STANDARD
BEGIN:DAYLIGHT
TZOFFSETFROM:+0100
TZOFFSETTO:+0200
TZNAME:CEST
DTSTART:20200329T010000
END:DAYLIGHT
BEGIN:STANDARD
TZOFFSETFROM:+0200
TZOFFSETTO:+0100
TZNAME:CET
DTSTART:20201025T010000
END:STANDARD
BEGIN:DAYLIGHT
TZOFFSETFROM:+0100
TZOFFSETTO:+0200
TZNAME:CEST
DTSTART:20210328T010000
END:DAYLIGHT
BEGIN:STANDARD
TZOFFSETFROM:+0200
TZOFFSETTO:+0100
TZNAME:CET
DTSTART:20211031T010000
END:STANDARD
BEGIN:DAYLIGHT
TZOFFSETFROM:+0100
TZOFFSETTO:+0200
TZNAME:CEST
DTSTART:20220327T010000
END:DAYLIGHT
BEGIN:STANDARD
TZOFFSETFROM:+0200
TZOFFSETTO:+0100
TZNAME:CET
DTSTART:20221030T010000
END:STANDARD
END:VTIMEZONE
BEGIN:VEVENT
DTSTART;TZID=Europe/Rome:20210429T170000
DTEND;TZID=Europe/Rome:20210429T180000
DTSTAMP:20260419T142825
CREATED:20210429T144554Z
LAST-MODIFIED:20210429T144721Z
UID:30707-1619715600-1619719200@www.codiceedizioni.it
SUMMARY:Elisabetta Tola ospite della Centrale dell'Acqua di Milano
DESCRIPTION:Elisabetta Tola – autrice insieme a Marco Boscolo del saggio Semi ritrovati – sarà  ospite della Centrale dell’acqua di Milano per una diretta dal titolo “Per fare un albero”… semi e biodiversità per sistemi alimentari sani e sostenibili. \n\nIn preparazione alla Giornata mondiale della Biodiversità\, il 22 maggio 2021\, la Centrale dell’acqua di Milano organizza una serie di incontri sul tema. Elisabetta Tola racconterà la biodiversità attraverso le colture ed esperienze concrete di promozione di filiere locali e progetti di salvaguardia locale del territorio. \nAd affiancarla\, nel corso della diretta ci saranno: Chiara Pirovano\, Senior Advisor Food Policy di Milano e Francesco Memo\, MMspa\, Centrale dell’Acqua di Milano. \n\nL’evento sarà trasmesso in diretta sulla pagina Facebook  e sul canale YouTube della Centrale dell’acqua di Milano. \nAppuntamento online giovedì 29 aprile 2021\, ore 17.00.
URL:https://www.codiceedizioni.it/evento/elisabetta-tola-ospite-della-centrale-dellacqua-di-milano/
LOCATION:Centrale dell’acqua di Milano
END:VEVENT
BEGIN:VEVENT
DTSTART;TZID=Europe/Rome:20210216T180000
DTEND;TZID=Europe/Rome:20210216T190000
DTSTAMP:20260419T142825
CREATED:20210215T103420Z
LAST-MODIFIED:20210215T103420Z
UID:30111-1613498400-1613502000@www.codiceedizioni.it
SUMMARY:Elisabetta Tola e Marco Boscolo presentano Semi ritrovati\, live su RADAR Magazine
DESCRIPTION:Elisabetta Tola e Marco Boscolo\, autori di Semi ritrovati\, presentano il loro libro in diretta sulla pagina Facebook di RADAR Magazine. Un confronto sui temi dell’agricoltura\, della sostenibilità e dell’innovazione.  \nModera l’incontro Anna Violato (RADAR). \nAppuntamento online martedì 16 febbraio 2021\, ore 18.00. 
URL:https://www.codiceedizioni.it/evento/elisabetta-tola-e-marco-boscolo-presentano-semi-ritrovati-live-su-radar-magazine/
LOCATION:RADAR Magazine
END:VEVENT
BEGIN:VEVENT
DTSTART;TZID=Europe/Rome:20200912T150000
DTEND;TZID=Europe/Rome:20200912T160000
DTSTAMP:20260419T142825
CREATED:20200907T083233Z
LAST-MODIFIED:20200907T083233Z
UID:29416-1599922800-1599926400@www.codiceedizioni.it
SUMMARY:Marco Boscolo ed Elisabetta Tola presentano Semi ritrovati al Resilienze Festival di Bologna
DESCRIPTION:Marco Boscolo ed Elisabetta Tola vi aspettano a Bologna il 12 settembre alle 15 al Resilienze Festival di Bologna\, all’apuntamento “Cucina Spaziale. Scuola\, alimentazione e nuove generazioni” in cui si parlerà anche di  Semi ritrovati. \nCucina Spaziale\, nell’immaginazione di Gianni Rodari\, è il racconto del viaggio in un mondo interamente commestibile\, in cui tutto può essere mangiato\, dalla strada alle montagne. Persino la prima colazione si fa così: «Suona la sveglia\, tu ti svegli\, acchiappi la sveglia e la mangi in due bocconi».\nAttraverso le lenti della fantasia\, notiamo che\, fin dalle prime età\, l’alimentazione è il modo attraverso cui entriamo in contatto con i temi fondamentali della quotidianità: dalla filiera alla distribuzione delle risorse\, passando per la sostenibilità ambientale. \nIl cibo può essere motore di cambiamento e fonte inesauribile di storie. Eppure\, soprattutto quando parliamo di alimentazione e nuove generazioni\, l’immaginario che naturalmente siamo portati ad attivare è fortemente distopico.\nLo stesso linguaggio che usiamo per trattare di alimentazione a scuola – “mensa”; “spazio refettorio” – è legato a una logica ormai superata\, non più in grado di entrare in contatto con le aspirazioni di bambine e bambini.\nLe mense non sembrano capaci di raccogliere le sfide legate alla contemporaneità\, ancorate a un modello di approvvigionamento\, consumo e preparazione delle materie prime sempre più insostenibile.\nCome fare per rovesciare i termini con cui si parla di cibo a scuola?\nPartiamo da qui per costruire un discorso in grado di restituire la complessità dei temi legati all’alimentazione e che ne sappia far emergere i legami nascosti.\nGenerare un cambiamento vuol dire cercare collegamenti tra materie prime\, spazio\, tempo e creatività\, soprattutto a partire dalla prima infanzia. Prima di tutto\, però\, mangiare vuol dire nutrirsi\, divertirsi\, scoprire\, imparare.
URL:https://www.codiceedizioni.it/evento/marco-boscolo-ed-elisabetta-tola-presentano-semi-ritrovati-resilienze-festival-bologna/
LOCATION:Resilienze Festival\, Le Serre dei Giardini Margherita – Via Castiglione\, 134\, Bologna\, 40136
ORGANIZER;CN="Resilienze Festival":MAILTO:resilienze@kilowatt.bo.it
END:VEVENT
BEGIN:VEVENT
DTSTART;TZID=Europe/Rome:20200722T190000
DTEND;TZID=Europe/Rome:20200722T210000
DTSTAMP:20260419T142825
CREATED:20200721T075830Z
LAST-MODIFIED:20200721T080437Z
UID:29231-1595444400-1595451600@www.codiceedizioni.it
SUMMARY:Marco Boscolo ed Elisabetta Tola presentano Semi ritrovati a Bologna
DESCRIPTION:Marco Boscolo ed Elisabetta Tola vi aspettano a Bologna il 22 luglio alle 19\, al chiosco azzurro di via Irnerio\, 2/4 per la presentazione di Semi ritrovati. \nUna presentazione all’aperto\, organizzata insieme alla libreria Ubik di Bologna\, per conoscere le storie dei coraggiosi agricoltori che cercano un modello altrenativo alle grandi multinazionali dell’agri-business. Interviene Jonathan Ferramola.
URL:https://www.codiceedizioni.it/evento/marco-boscolo-ed-elisabetta-tola-presentano-semi-ritrovati-a-bologna/
LOCATION:Parco della Montagnola\, chiosco azzurro\, via Irnerio\, 2/4\, Bologna\, Italia
END:VEVENT
END:VCALENDAR