BEGIN:VCALENDAR
VERSION:2.0
PRODID:-//Codice Edizioni - ECPv6.15.20//NONSGML v1.0//EN
CALSCALE:GREGORIAN
METHOD:PUBLISH
X-WR-CALNAME:Codice Edizioni
X-ORIGINAL-URL:https://www.codiceedizioni.it
X-WR-CALDESC:Eventi per Codice Edizioni
REFRESH-INTERVAL;VALUE=DURATION:PT1H
X-Robots-Tag:noindex
X-PUBLISHED-TTL:PT1H
BEGIN:VTIMEZONE
TZID:Europe/Rome
BEGIN:DAYLIGHT
TZOFFSETFROM:+0100
TZOFFSETTO:+0200
TZNAME:CEST
DTSTART:20200329T010000
END:DAYLIGHT
BEGIN:STANDARD
TZOFFSETFROM:+0200
TZOFFSETTO:+0100
TZNAME:CET
DTSTART:20201025T010000
END:STANDARD
BEGIN:DAYLIGHT
TZOFFSETFROM:+0100
TZOFFSETTO:+0200
TZNAME:CEST
DTSTART:20210328T010000
END:DAYLIGHT
BEGIN:STANDARD
TZOFFSETFROM:+0200
TZOFFSETTO:+0100
TZNAME:CET
DTSTART:20211031T010000
END:STANDARD
BEGIN:DAYLIGHT
TZOFFSETFROM:+0100
TZOFFSETTO:+0200
TZNAME:CEST
DTSTART:20220327T010000
END:DAYLIGHT
BEGIN:STANDARD
TZOFFSETFROM:+0200
TZOFFSETTO:+0100
TZNAME:CET
DTSTART:20221030T010000
END:STANDARD
END:VTIMEZONE
BEGIN:VEVENT
DTSTART;TZID=Europe/Rome:20210418T210000
DTEND;TZID=Europe/Rome:20210418T213000
DTSTAMP:20260423T120849
CREATED:20210413T143516Z
LAST-MODIFIED:20210413T143615Z
UID:30595-1618779600-1618781400@www.codiceedizioni.it
SUMMARY:Per soli uomini\, Emanuela Griglié e Guido Romeo al Science Web Festival
DESCRIPTION:In diretta sulla pagina Instagram del Science Web Festival\, Emanuela Griglié e Guido Romeo – autori di Per soli uomini – illustreranno la loro ricerca sul maschilismo dei dati e risponderanno alle domande del pubblico.\n\n\n\n\n\nPotete seguire la diretta a questo link.\n\n\nAppuntamento online domenica 18 aprile 2021\, ore 21:00.\n\n 
URL:https://www.codiceedizioni.it/evento/per-soli-uomini-emanuela-griglie-e-guido-romeo-al-science-web-festival/
LOCATION:Science Web Festival
END:VEVENT
BEGIN:VEVENT
DTSTART;TZID=Europe/Rome:20210417T210000
DTEND;TZID=Europe/Rome:20210417T213000
DTSTAMP:20260423T120849
CREATED:20210413T132413Z
LAST-MODIFIED:20210413T132413Z
UID:30585-1618693200-1618695000@www.codiceedizioni.it
SUMMARY:Presentazione de Il lampo dell'elettrone al Science Web Festival
DESCRIPTION:Ospite del Science Web Festival\, Vittorio Pellegrini\, a dialogo con il caporedattore del mensile Focus Andrea Parlangeli\, presenterà il suo libro Il lampo dell’elettrone.\n\n\nL’incontro sarà trasmesso in diretta sulla pagina Facebook e sull’account YouTube del Festival.\n\n\n\n\nAppuntamento online sabato 17 aprile 2021\, ore 21:00.\n 
URL:https://www.codiceedizioni.it/evento/presentazione-de-il-lampo-dellelettrone-al-science-web-festival/
LOCATION:Science Web Festival
END:VEVENT
BEGIN:VEVENT
DTSTART;TZID=Europe/Rome:20210416T210000
DTEND;TZID=Europe/Rome:20210416T213000
DTSTAMP:20260423T120849
CREATED:20210412T170023Z
LAST-MODIFIED:20210412T170023Z
UID:30579-1618606800-1618608600@www.codiceedizioni.it
SUMMARY:Scienza senza maiuscola\, anteprima al Science Web Festival
DESCRIPTION:Anteprima assoluta per Daniela Ovadia e Fabio Turone\, che presenteranno il loro saggio Scienza senza maiuscola – in uscita a fine mese – in diretta Instagram al Science Web Festival. \nA dialogo con gli autori ci sarà la divulgatrice scientifica Beatrice Mautino. A questo link la diretta Instagram dell’evento. \nAppuntamento venerdì 16 aprile 2021\, ore 21:00.
URL:https://www.codiceedizioni.it/evento/scienza-senza-maiuscola-anteprima-al-science-web-festival/
LOCATION:Science Web Festival
END:VEVENT
BEGIN:VEVENT
DTSTART;TZID=Europe/Rome:20210414T210000
DTEND;TZID=Europe/Rome:20210414T213000
DTSTAMP:20260423T120849
CREATED:20210408T140201Z
LAST-MODIFIED:20210412T101616Z
UID:30549-1618434000-1618435800@www.codiceedizioni.it
SUMMARY:Fake people\, Viola Bachini al Science Web Festival
DESCRIPTION:Ospite della seconda edizione del Science Web Festival\, Viola Bachini discuterà di Fake People\, il saggio scritto a quattro mani con Maurizio Tesconi. In un dialogo aperto con il pubblico\, la giornalista illustrerà come riconoscere e difendersi dalle identità fasulle che affollano la Rete.\n\n\n\n\n\nL’incontro verrà trasmesso in diretta sulla pagina Instagram del Science Web Festival.\n\n\nAppuntamento online mercoledì 14 aprile 2021\, ore 21:00.\n\n 
URL:https://www.codiceedizioni.it/evento/fake-people-viola-bachini-al-science-web-festival/
LOCATION:Science Web Festival
END:VEVENT
BEGIN:VEVENT
DTSTART;TZID=Europe/Rome:20210412T170000
DTEND;TZID=Europe/Rome:20210412T180000
DTSTAMP:20260423T120849
CREATED:20210412T101207Z
LAST-MODIFIED:20210412T101415Z
UID:30557-1618246800-1618250400@www.codiceedizioni.it
SUMMARY:Supereroi e superpedanti\, Michele Bellone al Science Web Festival
DESCRIPTION:Il Science Web Festival propone un dialogo tra l’autore di Incanto\, Michele Bellone\, e Graziano Ciocca\, autore del recente Bufale bestiali. L’incontro\, dal titolo Supereroi e superpedanti sarà trasmesso in diretta sulla pagina Facebook del Festival.\n\n\n\n\nAppuntamento online lunedì 12 aprile 2021\, ore 17:00.\n 
URL:https://www.codiceedizioni.it/evento/supereroi-e-superpedanti-michele-bellone-al-science-web-festival/
LOCATION:Science Web Festival
END:VEVENT
END:VCALENDAR