BEGIN:VCALENDAR
VERSION:2.0
PRODID:-//Codice Edizioni - ECPv6.15.20//NONSGML v1.0//EN
CALSCALE:GREGORIAN
METHOD:PUBLISH
X-WR-CALNAME:Codice Edizioni
X-ORIGINAL-URL:https://www.codiceedizioni.it
X-WR-CALDESC:Eventi per Codice Edizioni
REFRESH-INTERVAL;VALUE=DURATION:PT1H
X-Robots-Tag:noindex
X-PUBLISHED-TTL:PT1H
BEGIN:VTIMEZONE
TZID:Europe/Rome
BEGIN:DAYLIGHT
TZOFFSETFROM:+0100
TZOFFSETTO:+0200
TZNAME:CEST
DTSTART:20200329T010000
END:DAYLIGHT
BEGIN:STANDARD
TZOFFSETFROM:+0200
TZOFFSETTO:+0100
TZNAME:CET
DTSTART:20201025T010000
END:STANDARD
BEGIN:DAYLIGHT
TZOFFSETFROM:+0100
TZOFFSETTO:+0200
TZNAME:CEST
DTSTART:20210328T010000
END:DAYLIGHT
BEGIN:STANDARD
TZOFFSETFROM:+0200
TZOFFSETTO:+0100
TZNAME:CET
DTSTART:20211031T010000
END:STANDARD
BEGIN:DAYLIGHT
TZOFFSETFROM:+0100
TZOFFSETTO:+0200
TZNAME:CEST
DTSTART:20220327T010000
END:DAYLIGHT
BEGIN:STANDARD
TZOFFSETFROM:+0200
TZOFFSETTO:+0100
TZNAME:CET
DTSTART:20221030T010000
END:STANDARD
END:VTIMEZONE
BEGIN:VEVENT
DTSTART;TZID=Europe/Rome:20211016T123000
DTEND;TZID=Europe/Rome:20211016T133000
DTSTAMP:20260423T134014
CREATED:20211012T083325Z
LAST-MODIFIED:20211013T130816Z
UID:32108-1634387400-1634391000@www.codiceedizioni.it
SUMMARY:Emanuela Griglié e Guido Romeo presentano Per soli uomini al Salone del libro di Torino
DESCRIPTION:Secondo appuntamento con gli autori Codice al Salone del libro di Torino: Emanuela Griglié e Guido Romeo presentano Per soli uomini con Rajae Bezzaz. \nAppuntamento per sabato 16 alle 12.45 in Sala bianca (area esterna\, padiglione 3). \n 
URL:https://www.codiceedizioni.it/evento/emanuela-griglie-e-guido-romeo-presentano-per-soli-uomini-al-salone-del-libro-di-torino/
LOCATION:Salone del Libro di Torino\, Lingotto fiere\, Torino\, Italia
END:VEVENT
BEGIN:VEVENT
DTSTART;TZID=Europe/Rome:20211015T113000
DTEND;TZID=Europe/Rome:20211015T123000
DTSTAMP:20260423T134014
CREATED:20211012T080426Z
LAST-MODIFIED:20211012T082645Z
UID:32102-1634297400-1634301000@www.codiceedizioni.it
SUMMARY:Enrico Alleva presenta La mente animale al Salone del libro di Torino
DESCRIPTION:Torna il Salone del Libro in presenza\, e tornano anche le presentazioni degli autori Codice.\nSi parte venerdì 15 ottobre con Enrico Alleva\, che presenterà insieme a Dario Voltolini La mente animale.\nAppuntamento per le 11.30 nella Sala rosa (padiglione 1).
URL:https://www.codiceedizioni.it/evento/enrico-alleva-presenta-la-mente-animale-al-salone-del-libro-di-torino/
LOCATION:Salone del Libro di Torino\, Lingotto fiere\, Torino\, Italia
END:VEVENT
BEGIN:VEVENT
DTSTART;TZID=Europe/Rome:20211015T113000
DTEND;TZID=Europe/Rome:20211015T123000
DTSTAMP:20260423T134014
CREATED:20211006T083538Z
LAST-MODIFIED:20211012T082124Z
UID:32035-1634297400-1634301000@www.codiceedizioni.it
SUMMARY:Vittorio Bo al Salone Internazionale del Libro 2021
DESCRIPTION:Come consuetudine\, con il Salone del libro torna l’Autore invisile\, il programma di incontri dedicato alla traduzione curato da Ilide Carmignani. \nAll’incontro Le case editrici si presentano: la saggistica\, insieme a Giovanni Carletti (Laterza) e a Corrado Melluso (Not di NERO)\, parteciperà Vittorio Bo\, fondatore e presidente di Codice edizioni. \nAppuntamento venerdì 15 ottobre dalle 11.30 nella Sala Ciano\, padiglione tre.
URL:https://www.codiceedizioni.it/evento/vittorio-bo-al-salone-internazionale-del-libro-2021/
LOCATION:Salone del Libro di Torino\, Lingotto fiere\, Torino\, Italia
END:VEVENT
END:VCALENDAR