BEGIN:VCALENDAR
VERSION:2.0
PRODID:-//Codice Edizioni - ECPv6.15.20//NONSGML v1.0//EN
CALSCALE:GREGORIAN
METHOD:PUBLISH
X-ORIGINAL-URL:https://www.codiceedizioni.it
X-WR-CALDESC:Eventi per Codice Edizioni
REFRESH-INTERVAL;VALUE=DURATION:PT1H
X-Robots-Tag:noindex
X-PUBLISHED-TTL:PT1H
BEGIN:VTIMEZONE
TZID:Europe/Rome
BEGIN:DAYLIGHT
TZOFFSETFROM:+0100
TZOFFSETTO:+0200
TZNAME:CEST
DTSTART:20180325T010000
END:DAYLIGHT
BEGIN:STANDARD
TZOFFSETFROM:+0200
TZOFFSETTO:+0100
TZNAME:CET
DTSTART:20181028T010000
END:STANDARD
BEGIN:DAYLIGHT
TZOFFSETFROM:+0100
TZOFFSETTO:+0200
TZNAME:CEST
DTSTART:20190331T010000
END:DAYLIGHT
BEGIN:STANDARD
TZOFFSETFROM:+0200
TZOFFSETTO:+0100
TZNAME:CET
DTSTART:20191027T010000
END:STANDARD
BEGIN:DAYLIGHT
TZOFFSETFROM:+0100
TZOFFSETTO:+0200
TZNAME:CEST
DTSTART:20200329T010000
END:DAYLIGHT
BEGIN:STANDARD
TZOFFSETFROM:+0200
TZOFFSETTO:+0100
TZNAME:CET
DTSTART:20201025T010000
END:STANDARD
END:VTIMEZONE
BEGIN:VEVENT
DTSTART;TZID=Europe/Rome:20191208T133000
DTEND;TZID=Europe/Rome:20191208T150000
DTSTAMP:20260419T153618
CREATED:20191203T090624Z
LAST-MODIFIED:20191203T090722Z
UID:27720-1575811800-1575817200@www.codiceedizioni.it
SUMMARY:Johann Rossi Mason presenta  Cervello senza limiti a Più Libri più Liberi
DESCRIPTION:Vi aspettiamo domenica 8 dicembre alle ore 13.30 a Più Libri più Liberi per la presentazione di Cervello senza limiti. La prima inchiesta italiana sul potenziamento cerebrale di Johann Rossi Mason\nDai laboratori e dalle università la cultura del brain enhancement si sta diffondendo come un virus. Tra vent’anni assumeremo le “pillole cerebrali” assieme al primo caffè? Dall’Adderall agli effetti del tè verde e il ginseng\, passando le tecniche di stimolazione magnetica transcranica\, la giornalista Johann Rossi Mason ci accompagna alla scoperta di usi (e abusi) delle sostanze e delle abitudini in grado di migliorare le capacità cognitive e di sostenere i ritmi di un mondo sempre più competitivo. \n  \n 
URL:https://www.codiceedizioni.it/evento/johann-rossi-mason-cervello-senza-limiti-a-piu-libri-piu-liberi-2/
LOCATION:Sala Giove\, Più Libri più Liberi\, Roma Convention Center – La Nuvola Viale Asia 40\, Roma\, 00144\, Italia
END:VEVENT
BEGIN:VEVENT
DTSTART;TZID=Europe/Rome:20191206T173000
DTEND;TZID=Europe/Rome:20191206T190000
DTSTAMP:20260419T153618
CREATED:20191203T090036Z
LAST-MODIFIED:20191203T090106Z
UID:27714-1575653400-1575658800@www.codiceedizioni.it
SUMMARY:Michele Bellone presenta  Incanto a Più Libri più Liberi
DESCRIPTION:Vi aspettiamo venerdì 6 dicembre alle ore 17.30 a Più Libri più Liberi per la presentazione di Incanto di Michele Bellone.\nCome nasce il mito del drago? Cos’hanno in comune maghi e scienziati? Come funziona il martello di Thor? Che impatto hanno avuto i giochi di ruolo sulla codificazione della magia? Queste sono solo alcune domande che il giornalista Michele Bellone affronta\, cercando di smontare diversi pregiudizi su due mondi tutt’altro che inconciliabili\, in un viaggio alla ricerca della scienza nascosta in molti archetipi della narrativa fantastica. Perché se la scienza può generare la magia del fantastico\, il fantasy può stimolare riflessioni sulla scienza. \nInterviene Graziano Ciocca \n  \n 
URL:https://www.codiceedizioni.it/evento/michele-bellone-incanto-a-piu-libri-piu-liberi/
LOCATION:Sala Nettuno\, Più Libri più Liberi\, Roma Convention Center – La Nuvola Viale Asia 40\, Roma\, 00144\, Italia
END:VEVENT
BEGIN:VEVENT
DTSTART;TZID=Europe/Rome:20191206T133000
DTEND;TZID=Europe/Rome:20191206T150000
DTSTAMP:20260419T153618
CREATED:20191203T085449Z
LAST-MODIFIED:20191203T090223Z
UID:27710-1575639000-1575644400@www.codiceedizioni.it
SUMMARY:Francesca Buoninconti presenta  Senza confini a Più Libri più Liberi
DESCRIPTION:Vi aspettiamo venerdì 6 alle ore 13.30 a Più Libri più Liberi per la presentazione di Senza confini Francesca Buoninconti\, finalista al premio Galileo.\nOgni anno la natura offre uno degli spettacoli più incredibili a cui si possa assistere: la migrazione. Dalla farfalla monarca\, che impiega quattro generazioni per terminare la sua migrazione\, fino alla sterna artica che compie una migrazione in volo dal Polo Nord al Polo Sud per 96.000 chilometri\, passando per le balene che viaggiano cantando e imparando nuovi dialetti del “balenese”. «Si viaggia perché i benefici derivanti dall’arrivo a destinazione superano i costi: possiamo dire che i migratori preferiscono andare incontro a una morte probabile\, per sfuggire a una morte certa». La giornalista scientifica Francesca Buoninconti inizia da qui la sua esplorazione di uno dei fenomeni naturali più affascinanti e misteriosi. \n  \n 
URL:https://www.codiceedizioni.it/evento/francesca-buoninconti-presenta-senza-confini-a-piu-libri-piu-liberi/
LOCATION:Sala Nettuno\, Più Libri più Liberi\, Roma Convention Center – La Nuvola Viale Asia 40\, Roma\, 00144\, Italia
END:VEVENT
END:VCALENDAR