BEGIN:VCALENDAR
VERSION:2.0
PRODID:-//Codice Edizioni - ECPv6.15.20//NONSGML v1.0//EN
CALSCALE:GREGORIAN
METHOD:PUBLISH
X-ORIGINAL-URL:https://www.codiceedizioni.it
X-WR-CALDESC:Eventi per Codice Edizioni
REFRESH-INTERVAL;VALUE=DURATION:PT1H
X-Robots-Tag:noindex
X-PUBLISHED-TTL:PT1H
BEGIN:VTIMEZONE
TZID:Europe/Rome
BEGIN:DAYLIGHT
TZOFFSETFROM:+0100
TZOFFSETTO:+0200
TZNAME:CEST
DTSTART:20180325T010000
END:DAYLIGHT
BEGIN:STANDARD
TZOFFSETFROM:+0200
TZOFFSETTO:+0100
TZNAME:CET
DTSTART:20181028T010000
END:STANDARD
BEGIN:DAYLIGHT
TZOFFSETFROM:+0100
TZOFFSETTO:+0200
TZNAME:CEST
DTSTART:20190331T010000
END:DAYLIGHT
BEGIN:STANDARD
TZOFFSETFROM:+0200
TZOFFSETTO:+0100
TZNAME:CET
DTSTART:20191027T010000
END:STANDARD
BEGIN:DAYLIGHT
TZOFFSETFROM:+0100
TZOFFSETTO:+0200
TZNAME:CEST
DTSTART:20200329T010000
END:DAYLIGHT
BEGIN:STANDARD
TZOFFSETFROM:+0200
TZOFFSETTO:+0100
TZNAME:CET
DTSTART:20201025T010000
END:STANDARD
BEGIN:DAYLIGHT
TZOFFSETFROM:+0100
TZOFFSETTO:+0200
TZNAME:CEST
DTSTART:20210328T010000
END:DAYLIGHT
BEGIN:STANDARD
TZOFFSETFROM:+0200
TZOFFSETTO:+0100
TZNAME:CET
DTSTART:20211031T010000
END:STANDARD
END:VTIMEZONE
BEGIN:VEVENT
DTSTART;TZID=Europe/Rome:20200215T170000
DTEND;TZID=Europe/Rome:20200215T170000
DTSTAMP:20260423T152634
CREATED:20200205T110646Z
LAST-MODIFIED:20200205T110646Z
UID:27950-1581786000-1581786000@www.codiceedizioni.it
SUMMARY:Maurizio Codogno presenta Numeralia ad Aosta
DESCRIPTION:Maurizio Codogno presenta Numeralia ad Aosta: appuntamento il 15 febbraio alle 17.00 alla sala cinema della casa di riposo J.B. Festaz. \nUna presentazione per dare i numeri. Anzi\, no: per andare alla caccia dei numeri che sono scappati dai manuali di matematica e si sonointrufolati nella letteratura\, nel cinema\, nelle canzonette\, nei siti internet\, nei fumetti\, cercando di rimanere il più possibile inosservati.
URL:https://www.codiceedizioni.it/evento/maurizio-codogno-presenta-numeralia-aosta/
LOCATION:Casa di riposo JB Festaz\, via Monte Grappa\, 8\, Aosta\, Italia
END:VEVENT
BEGIN:VEVENT
DTSTART;TZID=Europe/Rome:20191026T150000
DTEND;TZID=Europe/Rome:20191026T170000
DTSTAMP:20260423T152634
CREATED:20191014T151257Z
LAST-MODIFIED:20191014T151257Z
UID:27423-1572102000-1572109200@www.codiceedizioni.it
SUMMARY:Maurizio Codogno presenta Numeralia al Festival della Scienza di Genova
DESCRIPTION:Numeri da sballo! Come le cifre plasmano la letteratura\, l’arte e la nostra vita\nMaurizio Codogno presenta Numeralia in una conferenza-spettacolo al Festival della Scienza di Genova. \nAppuntamento il 26 ottobre alle 15:00\, all’auditorium dell’Acquario di Genova (area Porto Antico – ponte Ambrogio Spinola).
URL:https://www.codiceedizioni.it/evento/maurizio-codogno-presenta-numeralia-al-festival-della-scienza-di-genova/
LOCATION:Acquario di Genova\, Area Porto Antico - ponte Ambrogio Spinola\, Genova\, Italia
END:VEVENT
END:VCALENDAR