BEGIN:VCALENDAR
VERSION:2.0
PRODID:-//Codice Edizioni - ECPv6.15.20//NONSGML v1.0//EN
CALSCALE:GREGORIAN
METHOD:PUBLISH
X-ORIGINAL-URL:https://www.codiceedizioni.it
X-WR-CALDESC:Eventi per Codice Edizioni
REFRESH-INTERVAL;VALUE=DURATION:PT1H
X-Robots-Tag:noindex
X-PUBLISHED-TTL:PT1H
BEGIN:VTIMEZONE
TZID:Europe/Rome
BEGIN:DAYLIGHT
TZOFFSETFROM:+0100
TZOFFSETTO:+0200
TZNAME:CEST
DTSTART:20180325T010000
END:DAYLIGHT
BEGIN:STANDARD
TZOFFSETFROM:+0200
TZOFFSETTO:+0100
TZNAME:CET
DTSTART:20181028T010000
END:STANDARD
BEGIN:DAYLIGHT
TZOFFSETFROM:+0100
TZOFFSETTO:+0200
TZNAME:CEST
DTSTART:20190331T010000
END:DAYLIGHT
BEGIN:STANDARD
TZOFFSETFROM:+0200
TZOFFSETTO:+0100
TZNAME:CET
DTSTART:20191027T010000
END:STANDARD
BEGIN:DAYLIGHT
TZOFFSETFROM:+0100
TZOFFSETTO:+0200
TZNAME:CEST
DTSTART:20200329T010000
END:DAYLIGHT
BEGIN:STANDARD
TZOFFSETFROM:+0200
TZOFFSETTO:+0100
TZNAME:CET
DTSTART:20201025T010000
END:STANDARD
END:VTIMEZONE
BEGIN:VEVENT
DTSTART;TZID=Europe/Rome:20191208T133000
DTEND;TZID=Europe/Rome:20191208T150000
DTSTAMP:20260423T121012
CREATED:20191203T090624Z
LAST-MODIFIED:20191203T090722Z
UID:27720-1575811800-1575817200@www.codiceedizioni.it
SUMMARY:Johann Rossi Mason presenta  Cervello senza limiti a Più Libri più Liberi
DESCRIPTION:Vi aspettiamo domenica 8 dicembre alle ore 13.30 a Più Libri più Liberi per la presentazione di Cervello senza limiti. La prima inchiesta italiana sul potenziamento cerebrale di Johann Rossi Mason\nDai laboratori e dalle università la cultura del brain enhancement si sta diffondendo come un virus. Tra vent’anni assumeremo le “pillole cerebrali” assieme al primo caffè? Dall’Adderall agli effetti del tè verde e il ginseng\, passando le tecniche di stimolazione magnetica transcranica\, la giornalista Johann Rossi Mason ci accompagna alla scoperta di usi (e abusi) delle sostanze e delle abitudini in grado di migliorare le capacità cognitive e di sostenere i ritmi di un mondo sempre più competitivo. \n  \n 
URL:https://www.codiceedizioni.it/evento/johann-rossi-mason-cervello-senza-limiti-a-piu-libri-piu-liberi-2/
LOCATION:Sala Giove\, Più Libri più Liberi\, Roma Convention Center – La Nuvola Viale Asia 40\, Roma\, 00144\, Italia
END:VEVENT
BEGIN:VEVENT
DTSTART;TZID=Europe/Rome:20191123T170000
DTEND;TZID=Europe/Rome:20191123T183000
DTSTAMP:20260423T121012
CREATED:20191120T091606Z
LAST-MODIFIED:20191120T091710Z
UID:27663-1574528400-1574533800@www.codiceedizioni.it
SUMMARY:Come sarà il nostro cervello Johann Rossi Mason al Focus Live
DESCRIPTION:Johann Rossi Mason\, autrice di Cervello senza limiti\, sarà ospite del Focus Live. \nIl 23 novembre alle 17.15 terrà l’incontro Come sarà il nostro cervello?\, dedicato alle nuove frontiere del potenziamento cerebrale. \n  \n  \n 
URL:https://www.codiceedizioni.it/evento/come-sara-il-nostro-cervello-johann-rossi-mason-al-focus-live/
LOCATION:Museo Nazionale Scienza e Tecnologia\, Via San Vittore 21\, Milano\, 20123\, Italia
END:VEVENT
BEGIN:VEVENT
DTSTART;TZID=Europe/Rome:20191117T140000
DTEND;TZID=Europe/Rome:20191117T160000
DTSTAMP:20260423T121012
CREATED:20191023T091755Z
LAST-MODIFIED:20191023T091823Z
UID:27491-1573999200-1574006400@www.codiceedizioni.it
SUMMARY:Johann Rossi Mason presenta Cervello senza limiti a Bookcity
DESCRIPTION:Johann Rossi Mason presenta Cervello senza limiti a Bookcity con Giampaolo Michelozzi. \nDall’Adderall agli effetti del tè verde e il ginseng\, passando le tecniche di stimolazione magnetica transcranica: la giornalista Johann Rossi Mason accompagna il lettore in un percorso attualissimo e dettagliato alla scoperta di usi (e abusi) delle sostanze e delle abitudini in grado di migliorare le capacità cognitive e di sostenere i ritmi di un mondo sempre più competitivo. \nAppuntamento per il 17 novembre alle 14.00\, al Circolo Filologico Milanese – sala delle Colonne (via Clerici\, 10)
URL:https://www.codiceedizioni.it/evento/johann-rossi-mason-presenta-cervello-senza-limiti-bookcity/
LOCATION:Circolo Filologico Milanese\, via Clerici\, 10\, Milano\, Italia
END:VEVENT
BEGIN:VEVENT
DTSTART;TZID=Europe/Rome:20191109T163000
DTEND;TZID=Europe/Rome:20191109T183000
DTSTAMP:20260423T121012
CREATED:20191023T080851Z
LAST-MODIFIED:20191023T081213Z
UID:27472-1573317000-1573324200@www.codiceedizioni.it
SUMMARY:Il cervello e i suoi epigoni: Johann Rossi Mason ospite del Festival della tecnologia di Torino
DESCRIPTION:Il cervello e i suoi epigoni \nJohann Rossi Mason\, autrice di Cervello senza limiti\, è ospite del Festival della tecnologia di Torino: insieme a Maria Alessandra Umiltà parlerà delle applicazioni sul cervello umano delle ultime scoperte delle neuroscienze e della tecnologia. \nNegli ultimi anni gli studi sul cervello hanno fatto passi da gigante. E se da un lato\, grazie alla collaborazione fra tecnologia e neuroscienza\, è oggi possibile applicare le conoscenze acquisite sul suo funzionamento anche nell’ambito della robotica\, con l’obiettivo di sviluppare automi sempre più “umani”\, dall’altro quelle stesse conoscenze aprono a processi di potenziamento del nostro apparato cerebrale\, nella direzione di raggiungere livelli prestazionali sempre più elevati e avvicinare così l’uomo a un “robot”. Quali sono i rischi e quali le opportunità per il futuro? \nAppuntamento per il 9 novembre alle ore 16.30\, alla sede centrale del Politecnico di Torino\, aula 5 (corso Duca degli Abruzzi\, 24) \n 
URL:https://www.codiceedizioni.it/evento/il-cervello-e-i-suoi-epiconi-johann-rossi-mason-ospite-del-festival-della-tecnologia-di-torino/
LOCATION:Politecnico di Torino\, corso Duca degli Abruzzi\, 24\, Torino\, Italia
END:VEVENT
BEGIN:VEVENT
DTSTART;TZID=Europe/Rome:20191102T150000
DTEND;TZID=Europe/Rome:20191102T170000
DTSTAMP:20260423T121012
CREATED:20191014T153055Z
LAST-MODIFIED:20191014T153055Z
UID:27425-1572706800-1572714000@www.codiceedizioni.it
SUMMARY:Johann Rossi Mason presenta Cervello senza limiti al Festival della Scienza di Genova
DESCRIPTION:Potenziamento cerebrale per superuomini \nJohann Rossi Mason presenta Cervello senza limiti al Festival della Scienza di Genova. Appuntamento il 2 novembre alle 15.00\, all’auditorium del Galata – Museo del Mare (calata dei Mari\, 1). Un incontro per conoscere lo scenario prospettato dall’uso di nootropici\, fornendo un’indagine accurata e dettagliata sul mondo farmacologico. A completare lo spaccato\, le descrizioni di effetti e controindicazioni di sostanze naturali (caffeina\, teina\, ginseng\, curcumina e molti altri)\, e una precisa analisi dei benefici dati dal consumo di superfood o dall’aumento medio delle ore di sonno\, che possono “ricaricare” il cervello e aiutare memoria e salute.
URL:https://www.codiceedizioni.it/evento/johann-rossi-mason-presenta-cervello-senza-limiti-al-festival-della-scienza-di-genova/
LOCATION:Galata – Museo del Mare\, Calata dei Mari\, 1\, Genova\, 16126\, Italia
END:VEVENT
BEGIN:VEVENT
DTSTART;TZID=Europe/Rome:20190921T123000
DTEND;TZID=Europe/Rome:20190921T133000
DTSTAMP:20260423T121012
CREATED:20190910T071816Z
LAST-MODIFIED:20190910T071816Z
UID:26904-1569069000-1569072600@www.codiceedizioni.it
SUMMARY:Johann Rossi Mason presenta Cervello senza limiti al convegno "Cuore e cervello: attraverso strade che ritornano"
DESCRIPTION:Johann Rossi Mason presenta Cervello senza limiti\, la prima inchiesta giornalistica italiana sul potenziamento cerebrale\, tra storie e aneddoti ma anche tanta ricerca scientifica\, alla IX edizione del convegno “Cuore e cervello: attraverso strade che ritornano” organizzato dall’ACSA (Associazione interregionale Cardiologi e Specialisti medici Ambulatoriali). \nore 12.30\, ITC ILO – padiglione Europa 73/74\nviale Maestri del Lavoro\, 10 – Torino
URL:https://www.codiceedizioni.it/evento/johann-rossi-mason-presenta-cervello-senza-limiti-a-torino-acsa/
LOCATION:ITC ILO – Padiglione Europa 73/74\, viale Maestri del Lavoro\, 10\, Torino
END:VEVENT
BEGIN:VEVENT
DTSTART;TZID=Europe/Rome:20190914T150000
DTEND;TZID=Europe/Rome:20190914T163000
DTSTAMP:20260423T121012
CREATED:20190818T080018Z
LAST-MODIFIED:20190729T144635Z
UID:26133-1568473200-1568478600@www.codiceedizioni.it
SUMMARY:Johann Rossi Mason presenta Cervello senza limiti al CICAP Fest di Padova
DESCRIPTION:Cervello senza limiti: farmaci per potenziare il cervello?\nAl CICAP Fest di Padova Johann Rossi Mason presenta Cervello senza limiti\, la prima inchiesta giornalistica italiana sul potenziamento cerebrale\, tra storie e aneddoti ma anche tanta ricerca scientifica.\nModera Roberta Villa \nore 15.20\, MUSME
URL:https://www.codiceedizioni.it/evento/johann-rossi-mason-presenta-cervello-senza-limiti-al-cicap-fest-di-padova/
LOCATION:CICAP Fest – MUSME\, Via San Francesco\, 94\, Padova\, 35121
END:VEVENT
BEGIN:VEVENT
DTSTART;TZID=Europe/Rome:20190625T173000
DTEND;TZID=Europe/Rome:20190625T193000
DTSTAMP:20260423T121012
CREATED:20190625T070737Z
LAST-MODIFIED:20190625T070854Z
UID:25811-1561483800-1561491000@www.codiceedizioni.it
SUMMARY:Johann Rossi Mason presenta Cervello senza limiti a Palermo
DESCRIPTION:ore 17.30\, Villa Magnisi\n \nJohann Rossi Mason presenta Cervello senza limiti. La prima inchiesta giornalistica italiana sul potenziamento cerebrale a Villa Magnisi\, a Palermo\, nella sede dell’Ordine dei medici chirurghi ed odontoiatri della provincia di Palermo. \nDialogherà insieme all’autrice l’oncologo Livio Blasi.
URL:https://www.codiceedizioni.it/evento/johann-rossi-mason-presenta-al-circolo-dei-lettori-di-torino-cervello-senza-limiti-2/
LOCATION:Villa Magnisi\, via Rosario da Partanna\, 22\, Palermo\, 90146\, Italia
END:VEVENT
BEGIN:VEVENT
DTSTART;TZID=Europe/Rome:20190612T180000
DTEND;TZID=Europe/Rome:20190612T193000
DTSTAMP:20260423T121012
CREATED:20190520T090901Z
LAST-MODIFIED:20190611T083146Z
UID:25109-1560362400-1560367800@www.codiceedizioni.it
SUMMARY:Johann Rossi Mason presenta Cervello senza limiti al Circolo dei Lettori di Torino
DESCRIPTION:ore 18.00\, Circolo dei Lettori di Torino \nJohann Rossi Mason presenta al Circolo dei Lettori di Torino Cervello senza limiti. La prima inchiesta giornalistica italiana sul potenziamento cerebrale. \nDialogherà insieme all’autrice Danilo Zagaria\, giornalista e divulgatore. \nA questo link la presentazione segnalata su “TorinoSette”.
URL:https://www.codiceedizioni.it/evento/johann-rossi-mason-presenta-al-circolo-dei-lettori-di-torino-cervello-senza-limiti/
LOCATION:Circolo dei Lettori di Torino\, via Bogino\, 9\, Torino\, 10123\, Italia
END:VEVENT
END:VCALENDAR