BEGIN:VCALENDAR
VERSION:2.0
PRODID:-//Codice Edizioni - ECPv6.15.20//NONSGML v1.0//EN
CALSCALE:GREGORIAN
METHOD:PUBLISH
X-ORIGINAL-URL:https://www.codiceedizioni.it
X-WR-CALDESC:Eventi per Codice Edizioni
REFRESH-INTERVAL;VALUE=DURATION:PT1H
X-Robots-Tag:noindex
X-PUBLISHED-TTL:PT1H
BEGIN:VTIMEZONE
TZID:Europe/Rome
BEGIN:DAYLIGHT
TZOFFSETFROM:+0100
TZOFFSETTO:+0200
TZNAME:CEST
DTSTART:20180325T010000
END:DAYLIGHT
BEGIN:STANDARD
TZOFFSETFROM:+0200
TZOFFSETTO:+0100
TZNAME:CET
DTSTART:20181028T010000
END:STANDARD
BEGIN:DAYLIGHT
TZOFFSETFROM:+0100
TZOFFSETTO:+0200
TZNAME:CEST
DTSTART:20190331T010000
END:DAYLIGHT
BEGIN:STANDARD
TZOFFSETFROM:+0200
TZOFFSETTO:+0100
TZNAME:CET
DTSTART:20191027T010000
END:STANDARD
BEGIN:DAYLIGHT
TZOFFSETFROM:+0100
TZOFFSETTO:+0200
TZNAME:CEST
DTSTART:20200329T010000
END:DAYLIGHT
BEGIN:STANDARD
TZOFFSETFROM:+0200
TZOFFSETTO:+0100
TZNAME:CET
DTSTART:20201025T010000
END:STANDARD
END:VTIMEZONE
BEGIN:VEVENT
DTSTART;TZID=Europe/Rome:20191109T143000
DTEND;TZID=Europe/Rome:20191109T160000
DTSTAMP:20260419T192653
CREATED:20191023T082623Z
LAST-MODIFIED:20191023T082623Z
UID:27477-1573309800-1573315200@www.codiceedizioni.it
SUMMARY:Francesco Parisi presenta La tecnologia che siamo al Circolo dei Lettori di Torino
DESCRIPTION:Francesco Parisi presenta insieme a Peppino Ortoleva La tecnologia che siamo al Circolo dei Lettori di Torino\, in un incontro organizzato nell’ambito del Festival della tecnologia. \nAppuntamento per il 9 novembre alle ore 14.30 in via Giambattista Bogino\, 9.
URL:https://www.codiceedizioni.it/evento/francesco-parisi-presenta-la-tecnologia-che-siamo-al-circolo-dei-lettori-di-torino/
LOCATION:Circolo dei Lettori di Torino\, via Bogino\, 9\, Torino\, 10123\, Italia
END:VEVENT
END:VCALENDAR