BEGIN:VCALENDAR
VERSION:2.0
PRODID:-//Codice Edizioni - ECPv6.15.20//NONSGML v1.0//EN
CALSCALE:GREGORIAN
METHOD:PUBLISH
X-ORIGINAL-URL:https://www.codiceedizioni.it
X-WR-CALDESC:Eventi per Codice Edizioni
REFRESH-INTERVAL;VALUE=DURATION:PT1H
X-Robots-Tag:noindex
X-PUBLISHED-TTL:PT1H
BEGIN:VTIMEZONE
TZID:Europe/Rome
BEGIN:DAYLIGHT
TZOFFSETFROM:+0100
TZOFFSETTO:+0200
TZNAME:CEST
DTSTART:20180325T010000
END:DAYLIGHT
BEGIN:STANDARD
TZOFFSETFROM:+0200
TZOFFSETTO:+0100
TZNAME:CET
DTSTART:20181028T010000
END:STANDARD
BEGIN:DAYLIGHT
TZOFFSETFROM:+0100
TZOFFSETTO:+0200
TZNAME:CEST
DTSTART:20190331T010000
END:DAYLIGHT
BEGIN:STANDARD
TZOFFSETFROM:+0200
TZOFFSETTO:+0100
TZNAME:CET
DTSTART:20191027T010000
END:STANDARD
BEGIN:DAYLIGHT
TZOFFSETFROM:+0100
TZOFFSETTO:+0200
TZNAME:CEST
DTSTART:20200329T010000
END:DAYLIGHT
BEGIN:STANDARD
TZOFFSETFROM:+0200
TZOFFSETTO:+0100
TZNAME:CET
DTSTART:20201025T010000
END:STANDARD
END:VTIMEZONE
BEGIN:VEVENT
DTSTART;TZID=Europe/Rome:20190914T180000
DTEND;TZID=Europe/Rome:20190914T190000
DTSTAMP:20260419T143800
CREATED:20190818T080008Z
LAST-MODIFIED:20190910T072054Z
UID:26146-1568484000-1568487600@www.codiceedizioni.it
SUMMARY:Richard Wiseman presenta Volere la luna al CICAP Fest di Padova
DESCRIPTION:«La vera eredità dell’Apollo 11 è la conferma che ognuno di noi può davvero realizzare ciò che si prefigge» ha detto Christopher Kraft\, direttore delle flight operations della NASA. Ma che cosa è davvero servito per raggiungere un obiettivo che ai più sembrava irraggiungibile?\nRichard Wiseman presenta Volere la luna\, un’inedita e affascinante analisi della cosiddetta “mentalità Apollo”\, un approccio che può guidare la vita personale e professionale di ciascuno di noi. Attraverso le interviste ai protagonisti di quegli anni\, lo studio degli archivi della NASA e le ultime frontiere della psicologia\, Wiseman identifica otto principi chiave che definiscono la “mentalità Apollo”. Perché chiunque\, se lo vuole\, può raggiungere la propria\, personale\, luna.\nore 18.00\, palazzo Bo – aula Magna
URL:https://www.codiceedizioni.it/evento/richard-wiseman-presenta-volere-la-luna-al-cicap-fest-di-padova/
LOCATION:CICAP Fest Padova – palazzo Bo\, Via VIII Febbraio\, 2\, Padova\, 35122
END:VEVENT
BEGIN:VEVENT
DTSTART;TZID=Europe/Rome:20190914T160000
DTEND;TZID=Europe/Rome:20190914T170000
DTSTAMP:20260419T143800
CREATED:20190729T080055Z
LAST-MODIFIED:20190910T071946Z
UID:26141-1568476800-1568480400@www.codiceedizioni.it
SUMMARY:Michele Bellone presenta Incanto al CICAP Fest di Padova
DESCRIPTION:Al CICAP Fest di Padova Michele Bellone presenta Incanto: storie di draghi\, scienziati e stregoni: il fantastico è un genere intriso di magia\, eventi misteriosi e creature sovrannaturali\, e spesso è percepito come una pura evasione nell’irrazionale\, nel superstizioso e nel fiabesco. Ma in molte storie di eroi\, incantatrici\, creature leggendarie e magie di ogni sorta c’è sempre più spazio anche per la scienza. Come nasce il mito del drago? Cos’hanno in comune maghi e scienziati? Come funziona il martello di Thor? Alcune delle domande affrontate\, cercando di smontare pregiudizi su due mondi tutt’altro che inconciliabili. Perché se la scienza può generare la magia del fantastico\, il fantasy può stimolare riflessioni sulla scienza. \nore 16.00\, palazzo Bo – aula Nievo
URL:https://www.codiceedizioni.it/evento/michele-bellone-presenta-incanto-al-cicap-fest-di-padova/
LOCATION:CICAP Fest Padova – palazzo Bo\, Via VIII Febbraio\, 2\, Padova\, 35122
END:VEVENT
BEGIN:VEVENT
DTSTART;TZID=Europe/Rome:20190914T150000
DTEND;TZID=Europe/Rome:20190914T163000
DTSTAMP:20260419T143800
CREATED:20190818T080018Z
LAST-MODIFIED:20190729T144635Z
UID:26133-1568473200-1568478600@www.codiceedizioni.it
SUMMARY:Johann Rossi Mason presenta Cervello senza limiti al CICAP Fest di Padova
DESCRIPTION:Cervello senza limiti: farmaci per potenziare il cervello?\nAl CICAP Fest di Padova Johann Rossi Mason presenta Cervello senza limiti\, la prima inchiesta giornalistica italiana sul potenziamento cerebrale\, tra storie e aneddoti ma anche tanta ricerca scientifica.\nModera Roberta Villa \nore 15.20\, MUSME
URL:https://www.codiceedizioni.it/evento/johann-rossi-mason-presenta-cervello-senza-limiti-al-cicap-fest-di-padova/
LOCATION:CICAP Fest – MUSME\, Via San Francesco\, 94\, Padova\, 35121
END:VEVENT
BEGIN:VEVENT
DTSTART;TZID=Europe/Rome:20190914T143000
DTEND;TZID=Europe/Rome:20190914T153000
DTSTAMP:20260419T143800
CREATED:20190818T080058Z
LAST-MODIFIED:20190729T144627Z
UID:26128-1568471400-1568475000@www.codiceedizioni.it
SUMMARY:Andrea Fontana presenta Regimi di verità al CICAP Fest di Padova
DESCRIPTION:Andrea Fontana presenta Regimi di verità. Convivere con leggende e fatti alternativi al CICAP Fest di Padova\nViviamo in un ambiente sociale\, economico e politico in cui leggende e credenze valgono come notizie e conoscenze reali e accertate; quello che conta non è il contenuto\, ma come viene raccontato. Siamo capaci di usare questa nuova forma di intelligenza narrativa\, gestendo contenuti testuali e visivi di tutti i tipi\, tra parole\, link\, hashtag\, video\, foto e meme?\nModera Roberta Villa \nore 14.30\, palazzo Bo – aula Nievo
URL:https://www.codiceedizioni.it/evento/andrea-fontana-presenta-regimi-di-verita-al-cicap-fest-di-padova/
LOCATION:CICAP Fest Padova – palazzo Bo\, Via VIII Febbraio\, 2\, Padova\, 35122
END:VEVENT
BEGIN:VEVENT
DTSTART;TZID=Europe/Rome:20190913T163000
DTEND;TZID=Europe/Rome:20190913T180000
DTSTAMP:20260419T143800
CREATED:20190818T080002Z
LAST-MODIFIED:20190729T144617Z
UID:26124-1568392200-1568397600@www.codiceedizioni.it
SUMMARY:Daniele Gouthier al CICAP Fest di Padova
DESCRIPTION:Daniele Gouthier al CICAP Fest per un workshop modellato su Scrivere di scienza \nCome parlare di scienza a chi non vuole ascoltarci\nSempre più persone sono convinte che gli esperti non siano tali\, mentre altrettante li ascoltano acriticamente. Sempre di più sono gli ostili alla scienza e altrettanto aumentano coloro che “credono” in essa e mostrano una fiducia cieca in tutto ciò che è scientifico. Quale ruolo può avere la comunicazione scritta nello scalfire il muro-contro-muro e nel far crescere una cultura del dialogo e del dubbio attorno alla ricerca e ai suoi processi\, alla scienza e ai suoi risultati. \nore 14:30-18:30 – palazzo del Bo\, aula L\n(workshop a iscrizione)
URL:https://www.codiceedizioni.it/evento/daniele-gouthier-al-cicap-fest/
LOCATION:CICAP Fest Padova – palazzo Bo\, Via VIII Febbraio\, 2\, Padova\, 35122
END:VEVENT
END:VCALENDAR