BEGIN:VCALENDAR
VERSION:2.0
PRODID:-//Codice Edizioni - ECPv6.15.20//NONSGML v1.0//EN
CALSCALE:GREGORIAN
METHOD:PUBLISH
X-WR-CALNAME:Codice Edizioni
X-ORIGINAL-URL:https://www.codiceedizioni.it
X-WR-CALDESC:Eventi per Codice Edizioni
REFRESH-INTERVAL;VALUE=DURATION:PT1H
X-Robots-Tag:noindex
X-PUBLISHED-TTL:PT1H
BEGIN:VTIMEZONE
TZID:Europe/Rome
BEGIN:DAYLIGHT
TZOFFSETFROM:+0100
TZOFFSETTO:+0200
TZNAME:CEST
DTSTART:20200329T010000
END:DAYLIGHT
BEGIN:STANDARD
TZOFFSETFROM:+0200
TZOFFSETTO:+0100
TZNAME:CET
DTSTART:20201025T010000
END:STANDARD
BEGIN:DAYLIGHT
TZOFFSETFROM:+0100
TZOFFSETTO:+0200
TZNAME:CEST
DTSTART:20210328T010000
END:DAYLIGHT
BEGIN:STANDARD
TZOFFSETFROM:+0200
TZOFFSETTO:+0100
TZNAME:CET
DTSTART:20211031T010000
END:STANDARD
BEGIN:DAYLIGHT
TZOFFSETFROM:+0100
TZOFFSETTO:+0200
TZNAME:CEST
DTSTART:20220327T010000
END:DAYLIGHT
BEGIN:STANDARD
TZOFFSETFROM:+0200
TZOFFSETTO:+0100
TZNAME:CET
DTSTART:20221030T010000
END:STANDARD
END:VTIMEZONE
BEGIN:VEVENT
DTSTART;TZID=Europe/Rome:20210409T180000
DTEND;TZID=Europe/Rome:20210409T190000
DTSTAMP:20260419T142825
CREATED:20210330T143553Z
LAST-MODIFIED:20210330T143628Z
UID:30476-1617991200-1617994800@www.codiceedizioni.it
SUMMARY:Fake people: storie di elezioni e social bot
DESCRIPTION:Nell’ambito della Campagna per la Cittadinanza 2020/21 – NOISE\, l’associazione RIME organizza un incontro con Viola Bachini\, autrice con Maurizio Tesconi del libro Fake People. La giornalista parlerà di elezioni\, intelligenza artificiale\, social bot e di come questi ultimi possono influenzare i processi di voto democratici.\n\n\n\n\n\n L’incontro verrà trasmesso in diretta sulla piattaforma Zoom e sulla pagina Facebook di RIME.\n\n\nAppuntamento online venerdì 9 aprile 2021\, ore 18:00.\n\n 
URL:https://www.codiceedizioni.it/evento/fake-people-storie-di-elezioni-e-social-bot/
LOCATION:Associazione RIME
END:VEVENT
END:VCALENDAR