BEGIN:VCALENDAR
VERSION:2.0
PRODID:-//Codice Edizioni - ECPv6.15.20//NONSGML v1.0//EN
CALSCALE:GREGORIAN
METHOD:PUBLISH
X-ORIGINAL-URL:https://www.codiceedizioni.it
X-WR-CALDESC:Eventi per Codice Edizioni
REFRESH-INTERVAL;VALUE=DURATION:PT1H
X-Robots-Tag:noindex
X-PUBLISHED-TTL:PT1H
BEGIN:VTIMEZONE
TZID:Europe/Rome
BEGIN:DAYLIGHT
TZOFFSETFROM:+0100
TZOFFSETTO:+0200
TZNAME:CEST
DTSTART:20200329T010000
END:DAYLIGHT
BEGIN:STANDARD
TZOFFSETFROM:+0200
TZOFFSETTO:+0100
TZNAME:CET
DTSTART:20201025T010000
END:STANDARD
BEGIN:DAYLIGHT
TZOFFSETFROM:+0100
TZOFFSETTO:+0200
TZNAME:CEST
DTSTART:20210328T010000
END:DAYLIGHT
BEGIN:STANDARD
TZOFFSETFROM:+0200
TZOFFSETTO:+0100
TZNAME:CET
DTSTART:20211031T010000
END:STANDARD
BEGIN:DAYLIGHT
TZOFFSETFROM:+0100
TZOFFSETTO:+0200
TZNAME:CEST
DTSTART:20220327T010000
END:DAYLIGHT
BEGIN:STANDARD
TZOFFSETFROM:+0200
TZOFFSETTO:+0100
TZNAME:CET
DTSTART:20221030T010000
END:STANDARD
END:VTIMEZONE
BEGIN:VEVENT
DTSTART;TZID=Europe/Rome:20210423T180000
DTEND;TZID=Europe/Rome:20210423T193000
DTSTAMP:20260419T222701
CREATED:20210423T143417Z
LAST-MODIFIED:20210423T143726Z
UID:30632-1619200800-1619206200@www.codiceedizioni.it
SUMMARY:Le due nuove scienze di Galileo Galilei\, Alessandro De Angelis ospite della Casa Argentina
DESCRIPTION:Le due nuove scienze di Galileo Galilei è il titolo della conferenza che il prof. Alessandro De Angelis terrà  a proposito del suo ultimo libro\, Discorsi e dimostrazioni di Galileo Galilei per il lettore moderno. Organizzato dalla Rete di scienziati argentini in Italia\, l’incontro sarà trasmesso in diretta sul canale Youtube della Casa Argentina. \nA questo link la locandina dell’evento. \nAppuntamento online venerdì 23 aprile\, ore 18.00.
URL:https://www.codiceedizioni.it/evento/le-due-nuove-scienze-di-galileo-galilei-alessandro-de-angelis-ospite-della-casa-argentina/
LOCATION:Casa Argentina
END:VEVENT
BEGIN:VEVENT
DTSTART;TZID=Europe/Rome:20210324T183000
DTEND;TZID=Europe/Rome:20210324T193000
DTSTAMP:20260419T222701
CREATED:20210324T104059Z
LAST-MODIFIED:20210324T104331Z
UID:30391-1616610600-1616614200@www.codiceedizioni.it
SUMMARY:Alessandro De Angelis presenta: Discorsi e dimostrazioni matematiche di Galileo Galilei per il lettore moderno
DESCRIPTION:Alessandro De Angelis\, docente di fisica sperimentale nelle università di Padova e Lisbona\, presenta Discorsi e dimostrazioni matematiche di Galileo Galilei per il lettore moderno. \nPer rendere accessibile nella sua interezza una delle opere seminali del pensiero scientifico moderno\, Alessandro De Angelis l’ha tradotta in un linguaggio comprensibile per il lettore contemporaneo\, curioso di risalire alle fonti primarie della scienza.  \nL’incontro sarà trasmesso in diretta sulle pagine Facebook di Moderna – Le librerie Udine e di Codice edizioni. Dialogherà con l’autore il professor Riccardo Giannitrapani. \nAppuntamento online mercoledì 24 marzo 2021\, ore 18.30.
URL:https://www.codiceedizioni.it/evento/alessandro-de-angelis-presenta-discorsi-e-dimostrazioni-matematiche/
LOCATION:Moderna – Le librerie Udine
END:VEVENT
END:VCALENDAR